BEGIN:VCALENDAR
VERSION:2.0
PRODID:-//Jacques Laventure - ECPv6.15.20//NONSGML v1.0//EN
CALSCALE:GREGORIAN
METHOD:PUBLISH
X-WR-CALNAME:Jacques Laventure
X-ORIGINAL-URL:https://jacqueslaventure.com
X-WR-CALDESC:Events for Jacques Laventure
REFRESH-INTERVAL;VALUE=DURATION:PT1H
X-Robots-Tag:noindex
X-PUBLISHED-TTL:PT1H
BEGIN:VTIMEZONE
TZID:UTC
BEGIN:STANDARD
TZOFFSETFROM:+0000
TZOFFSETTO:+0000
TZNAME:UTC
DTSTART:20250101T000000
END:STANDARD
END:VTIMEZONE
BEGIN:VEVENT
DTSTART;TZID=UTC:20260320T110000
DTEND;TZID=UTC:20260320T123000
DTSTAMP:20260421T204411
CREATED:20260320T135300Z
LAST-MODIFIED:20260320T190646Z
UID:2160-1774004400-1774009800@jacqueslaventure.com
SUMMARY:Community Nutrition Class at YMCA – East Bronx
DESCRIPTION:Cooking for Energy\, Wellness\, and Community\nOn March 21st\, Chef Jacques Laventure will host a hands-on nutrition class at the YMCA in the East Bronx focused on simple plant-based meals that help people: \n\n Increase energy\n Reduce stress\n Build sustainable\, healthy habits\n\nParticipants will learn: \n\nHow to build a balanced plant-based plate\nHow to prepare quick\, healthy snacks\nHow to cook affordable meals in under 20 minutes\n\nThe goal is not perfection. \nThe goal is progress. \nBecause when people learn one small healthy habit\, it becomes the foundation for a lifetime of wellness. \nWorkshop Includes \n\n Live cooking demonstration\n Plant-based dessert making\n Nutrition habit stacking techniques\n Group discussion on food justice\n\nWhy Community Cooking Matters \nCooking together builds more than meals. \nIt builds community. \nAnd when people support each other in their health journey\, transformation becomes possible. \n 
URL:https://jacqueslaventure.com/event/community-nutrition-class-at-ymca-east-bronx/
ORGANIZER;CN="Jacques Laventure":MAILTO:example@gmail.com
END:VEVENT
END:VCALENDAR